BEGIN:VCALENDAR
VERSION:2.0
PRODID:-//CsiTamilChurchQatar - ECPv6.15.20//NONSGML v1.0//EN
CALSCALE:GREGORIAN
METHOD:PUBLISH
X-ORIGINAL-URL:https://csitamilchurchqatar.com
X-WR-CALDESC:Events for CsiTamilChurchQatar
REFRESH-INTERVAL;VALUE=DURATION:PT1H
X-Robots-Tag:noindex
X-PUBLISHED-TTL:PT1H
BEGIN:VTIMEZONE
TZID:Europe/London
BEGIN:DAYLIGHT
TZOFFSETFROM:+0000
TZOFFSETTO:+0100
TZNAME:BST
DTSTART:20220327T010000
END:DAYLIGHT
BEGIN:STANDARD
TZOFFSETFROM:+0100
TZOFFSETTO:+0000
TZNAME:GMT
DTSTART:20221030T010000
END:STANDARD
BEGIN:DAYLIGHT
TZOFFSETFROM:+0000
TZOFFSETTO:+0100
TZNAME:BST
DTSTART:20230326T010000
END:DAYLIGHT
BEGIN:STANDARD
TZOFFSETFROM:+0100
TZOFFSETTO:+0000
TZNAME:GMT
DTSTART:20231029T010000
END:STANDARD
BEGIN:DAYLIGHT
TZOFFSETFROM:+0000
TZOFFSETTO:+0100
TZNAME:BST
DTSTART:20240331T010000
END:DAYLIGHT
BEGIN:STANDARD
TZOFFSETFROM:+0100
TZOFFSETTO:+0000
TZNAME:GMT
DTSTART:20241027T010000
END:STANDARD
BEGIN:DAYLIGHT
TZOFFSETFROM:+0000
TZOFFSETTO:+0100
TZNAME:BST
DTSTART:20250330T010000
END:DAYLIGHT
BEGIN:STANDARD
TZOFFSETFROM:+0100
TZOFFSETTO:+0000
TZNAME:GMT
DTSTART:20251026T010000
END:STANDARD
BEGIN:DAYLIGHT
TZOFFSETFROM:+0000
TZOFFSETTO:+0100
TZNAME:BST
DTSTART:20260329T010000
END:DAYLIGHT
BEGIN:STANDARD
TZOFFSETFROM:+0100
TZOFFSETTO:+0000
TZNAME:GMT
DTSTART:20261025T010000
END:STANDARD
END:VTIMEZONE
BEGIN:VTIMEZONE
TZID:Asia/Qatar
BEGIN:STANDARD
TZOFFSETFROM:+0300
TZOFFSETTO:+0300
TZNAME:+03
DTSTART:20220101T000000
END:STANDARD
END:VTIMEZONE
BEGIN:VTIMEZONE
TZID:UTC
BEGIN:STANDARD
TZOFFSETFROM:+0000
TZOFFSETTO:+0000
TZNAME:UTC
DTSTART:20190101T000000
END:STANDARD
END:VTIMEZONE
BEGIN:VEVENT
DTSTART;VALUE=DATE:20250214
DTEND;VALUE=DATE:20250215
DTSTAMP:20260420T054116
CREATED:20250121T082959Z
LAST-MODIFIED:20250121T082959Z
UID:7358-1739491200-1739577599@csitamilchurchqatar.com
SUMMARY:Confirmation Service
DESCRIPTION:February 14th Friday-2025 @ 5:30 pm \nConfirmation Service. \nGuest Speaker: Rt. Rev. Timothy Ravinder \nHoly Communion Service \n#29\, Street 920\, Zone 44\, Doha #29\, Street 920\, Zone 44\, \nAl Hilal\, (Al Ahil Sports Club) Doha\, Doha
URL:https://csitamilchurchqatar.com/event/confirmation-service/
LOCATION:#29\, Street 920\, Zone 44\, Doha\, #29\, Street 920\, Zone 44\, Al hilal\, (Al Ahil Sports Club) Doha\, Doha\, Qatar
END:VEVENT
BEGIN:VEVENT
DTSTART;VALUE=DATE:20250207
DTEND;VALUE=DATE:20250208
DTSTAMP:20260420T054116
CREATED:20250121T082838Z
LAST-MODIFIED:20250121T082838Z
UID:7356-1738886400-1738972799@csitamilchurchqatar.com
SUMMARY:3rd Year Church Anniversary
DESCRIPTION:3 Year Church Anniversary. \nGuest Speaker: Rt. Rev. Timothy Ravinder  \nBishop in CSI Coimbatore Diocese \nHoly Communion Service \n#29\, Street 920\, Zone 44\, Doha #29\, Street 920\, Zone 44\, \nAl Hilal\, (Al Ahil Sports Club) Doha\, Doha
URL:https://csitamilchurchqatar.com/event/3rd-year-church-anniversary/
LOCATION:#29\, Street 920\, Zone 44\, Doha\, #29\, Street 920\, Zone 44\, Al hilal\, (Al Ahil Sports Club) Doha\, Doha\, Qatar
END:VEVENT
BEGIN:VEVENT
DTSTART;TZID=Europe/London:20241231T230000
DTEND;TZID=Europe/London:20250101T010000
DTSTAMP:20260420T054116
CREATED:20241209T120631Z
LAST-MODIFIED:20241209T120646Z
UID:7346-1735686000-1735693200@csitamilchurchqatar.com
SUMMARY:Watch Night Service
DESCRIPTION:Watch Night Service and New Year 2025 Service Communion Service
URL:https://csitamilchurchqatar.com/event/watch-night-service/
LOCATION:#29\, Street 920\, Zone 44\, Doha\, #29\, Street 920\, Zone 44\, Al hilal\, (Al Ahil Sports Club) Doha\, Doha\, Qatar
END:VEVENT
BEGIN:VEVENT
DTSTART;TZID=Europe/London:20241227T180000
DTEND;TZID=Europe/London:20241227T200000
DTSTAMP:20260420T054116
CREATED:20241209T120505Z
LAST-MODIFIED:20241209T120505Z
UID:7344-1735322400-1735329600@csitamilchurchqatar.com
SUMMARY:Christmas Tree Event
DESCRIPTION:Dear Brother’s & Sisters in Christ we are in advance to inform all our church members to arrange yours duties accordingly & please do join us for Christmas Event.\nRev. J. Edwin Rajkumar\nPresbyter In-charge
URL:https://csitamilchurchqatar.com/event/christmas-tree-event/
LOCATION:#29\, Street 920\, Zone 44\, Doha\, #29\, Street 920\, Zone 44\, Al hilal\, (Al Ahil Sports Club) Doha\, Doha\, Qatar
END:VEVENT
BEGIN:VEVENT
DTSTART;TZID=Europe/London:20241225T043000
DTEND;TZID=Europe/London:20241225T063000
DTSTAMP:20260420T054116
CREATED:20241209T120344Z
LAST-MODIFIED:20241209T120852Z
UID:7342-1735101000-1735108200@csitamilchurchqatar.com
SUMMARY:Christmas Communion Service
DESCRIPTION:Christmas Communion Service \nDear Brother’s & Sisters in Christ we are in advance to inform all our church members to arrange yours duties accordingly & please do join us for Christmas Event.\nRev. J. Edwin Rajkumar\nPresbyter In-charge
URL:https://csitamilchurchqatar.com/event/christmas-communion-service/
LOCATION:#29\, Street 920\, Zone 44\, Doha\, #29\, Street 920\, Zone 44\, Al hilal\, (Al Ahil Sports Club) Doha\, Doha\, Qatar
END:VEVENT
BEGIN:VEVENT
DTSTART;TZID=Europe/London:20241220T180000
DTEND;TZID=Europe/London:20241220T200000
DTSTAMP:20260420T054116
CREATED:20241209T120206Z
LAST-MODIFIED:20241209T120206Z
UID:7340-1734717600-1734724800@csitamilchurchqatar.com
SUMMARY:4th Advent
DESCRIPTION:Women’s & Men’s Fellowship\nProgramme Communion Service \nDear Brother’s & Sisters in Christ we are in advance to inform all our church members to arrange yours duties accordingly & please do join us for Christmas Event.\nRev. J. Edwin Rajkumar\nPresbyter In-charg
URL:https://csitamilchurchqatar.com/event/4th-advent/
LOCATION:#29\, Street 920\, Zone 44\, Doha\, #29\, Street 920\, Zone 44\, Al hilal\, (Al Ahil Sports Club) Doha\, Doha\, Qatar
END:VEVENT
BEGIN:VEVENT
DTSTART;TZID=Asia/Qatar:20241213T180000
DTEND;TZID=Asia/Qatar:20241213T200000
DTSTAMP:20260420T054116
CREATED:20241209T115551Z
LAST-MODIFIED:20241209T115854Z
UID:7332-1734112800-1734120000@csitamilchurchqatar.com
SUMMARY:Candle Light Service24 - Love Feast
DESCRIPTION:Dear Brother’s & Sisters in Christ we are in advance to inform all our church members to arrange yours duties accordingly & please do join us for Christmas Event.\nRev. J. Edwin Rajkumar\nPresbyter In-charge • Mobile: 5020 4238
URL:https://csitamilchurchqatar.com/event/candle-light-service24-love-feast/
LOCATION:#29\, Street 920\, Zone 44\, Doha\, #29\, Street 920\, Zone 44\, Al hilal\, (Al Ahil Sports Club) Doha\, Doha\, Qatar
END:VEVENT
BEGIN:VEVENT
DTSTART;VALUE=DATE:20231225
DTEND;VALUE=DATE:20231226
DTSTAMP:20260420T054116
CREATED:20230821T152001Z
LAST-MODIFIED:20230821T152001Z
UID:7085-1703462400-1703548799@csitamilchurchqatar.com
SUMMARY:Christmas Eve
DESCRIPTION:
URL:https://csitamilchurchqatar.com/event/christmas-eve/
END:VEVENT
BEGIN:VEVENT
DTSTART;VALUE=DATE:20231027
DTEND;VALUE=DATE:20231028
DTSTAMP:20260420T054116
CREATED:20231013T095906Z
LAST-MODIFIED:20231013T100022Z
UID:7188-1698364800-1698451199@csitamilchurchqatar.com
SUMMARY:Harvest festival
DESCRIPTION:Final day of Harvest festival
URL:https://csitamilchurchqatar.com/event/harvest-festival/
END:VEVENT
BEGIN:VEVENT
DTSTART;VALUE=DATE:20231020
DTEND;VALUE=DATE:20231021
DTSTAMP:20260420T054116
CREATED:20231013T100638Z
LAST-MODIFIED:20231013T100638Z
UID:7194-1697760000-1697846399@csitamilchurchqatar.com
SUMMARY:Men's Fellowship Harvest
DESCRIPTION:Men’s Fellowship Harvest
URL:https://csitamilchurchqatar.com/event/mens-fellowship-harvest/
END:VEVENT
BEGIN:VEVENT
DTSTART;VALUE=DATE:20231013
DTEND;VALUE=DATE:20231014
DTSTAMP:20260420T054116
CREATED:20231013T100458Z
LAST-MODIFIED:20231013T100458Z
UID:7191-1697155200-1697241599@csitamilchurchqatar.com
SUMMARY:Friday School Harvest
DESCRIPTION:Friday School Harvest
URL:https://csitamilchurchqatar.com/event/friday-school-harvest/
END:VEVENT
BEGIN:VEVENT
DTSTART;TZID=UTC:20201201T080000
DTEND;TZID=UTC:20201202T170000
DTSTAMP:20260420T054116
CREATED:20161108T232054Z
LAST-MODIFIED:20161108T232054Z
UID:5717-1606809600-1606928400@csitamilchurchqatar.com
SUMMARY:Fundraising at the Church
DESCRIPTION:There are countless threats to the unity of the body (John 3:6–9). Paul knows that brothers and sisters may have “complaints” against each other (Colossians 3:13). What does it look like to foster a community of forgiveness and love? \n \nPray for Faith\nThe Christian enduring persecution from his biological family needs to hear the dozens or hundreds in his spiritual family sing\, “Jesus\, I my cross have taken\, all to leave and follow Thee.” The believer struggling hard against shame needs to watch you exult\, “My sin\, not in part\, but the whole\, has been nailed to the cross\, and I bear it no more!” The saint overburdened by work\, striving\, and performance needs to listen as you affirm\, “We rest on Thee\, our shield.” \nGet Love to Love the Others\n1 Corinthians 13:4-8 Love is patient\, love is kind. It does not envy\, it does not boast\, it is not proud.  It is not rude\, it is not self-seeking\, it is not easily angered\, it keeps no record of wrongs.  Love does not delight in evil but rejoices with the truth.  It always protects\, always trusts\, always hopes\, always perseveres.  Love never fails. But where there are prophecies\, they will cease; where there are tongues\, they will be stilled; where there is knowledge\, it will pass away. \nJohn 3:16 “For God so loved the world that he gave his one and only Son\, that whoever believes in him shall not perish but have eternal life. \n1 John 3:16-18 This is how we know what love is: Jesus Christ laid down his life for us. And we ought to lay down our lives for our brothers. If anyone has material possessions and sees his brother in need but has no pity on him\, how can the love of God be in him? Dear children\, let us not love with words or tongue but with actions and in truth.
URL:https://csitamilchurchqatar.com/event/election-night-event/
CATEGORIES:Candidates,Voting
ATTACH;FMTTYPE=image/jpeg:https://csitamilchurchqatar.com/wp-content/uploads/2016/02/churchwp_media_-42-1.jpg
END:VEVENT
BEGIN:VEVENT
DTSTART;TZID=UTC:20201130T080000
DTEND;TZID=UTC:20201202T170000
DTSTAMP:20260420T054116
CREATED:20161108T232216Z
LAST-MODIFIED:20161108T232216Z
UID:5718-1606723200-1606928400@csitamilchurchqatar.com
SUMMARY:Celebrating Christmas Days
DESCRIPTION:There are countless threats to the unity of the body (Colossians 3:6–9). Paul knows that brothers and sisters may have “complaints” against each other (Colossians 3:13). What does it look like to foster a community of forgiveness and love? \n \nPray for Faith\nThe Christian enduring persecution from his biological family needs to hear the dozens or hundreds in his spiritual family sing\, “Jesus\, I my cross have taken\, all to leave and follow Thee.” The believer struggling hard against shame needs to watch you exult\, “My sin\, not in part\, but the whole\, has been nailed to the cross\, and I bear it no more!” The saint overburdened by work\, striving\, and performance needs to listen as you affirm\, “We rest on Thee\, our shield.” \nGet Love to Love the Others\n1 Corinthians 13:4-8 Love is patient\, love is kind. It does not envy\, it does not boast\, it is not proud.  It is not rude\, it is not self-seeking\, it is not easily angered\, it keeps no record of wrongs.  Love does not delight in evil but rejoices with the truth.  It always protects\, always trusts\, always hopes\, always perseveres.  Love never fails. But where there are prophecies\, they will cease; where there are tongues\, they will be stilled; where there is knowledge\, it will pass away. \nJohn 3:16 “For God so loved the world that he gave his one and only Son\, that whoever believes in him shall not perish but have eternal life. \n1 John 3:16-18 This is how we know what love is: Jesus Christ laid down his life for us. And we ought to lay down our lives for our brothers. If anyone has material possessions and sees his brother in need but has no pity on him\, how can the love of God be in him? Dear children\, let us not love with words or tongue but with actions and in truth.
URL:https://csitamilchurchqatar.com/event/election-night-victory/
CATEGORIES:Candidates,Voting
ATTACH;FMTTYPE=image/jpeg:https://csitamilchurchqatar.com/wp-content/uploads/2016/02/churchwp_media_-6-1.jpg
END:VEVENT
BEGIN:VEVENT
DTSTART;TZID=UTC:20200930T080000
DTEND;TZID=UTC:20201130T170000
DTSTAMP:20260420T054116
CREATED:20161108T232331Z
LAST-MODIFIED:20161108T232331Z
UID:5719-1601452800-1606755600@csitamilchurchqatar.com
SUMMARY:Reading Ministries and Sermons
DESCRIPTION:There are countless threats to the unity of the body (Colossians 3:6–9). Paul knows that brothers and sisters may have “complaints” against each other (Colossians 3:13). What does it look like to foster a community of forgiveness and love? \n \nPray for Faith\nThe Christian enduring persecution from his biological family needs to hear the dozens or hundreds in his spiritual family sing\, “Jesus\, I my cross have taken\, all to leave and follow Thee.” The believer struggling hard against shame needs to watch you exult\, “My sin\, not in part\, but the whole\, has been nailed to the cross\, and I bear it no more!” The saint overburdened by work\, striving\, and performance needs to listen as you affirm\, “We rest on Thee\, our shield.” \nGet Love to Love the Others\n1 Corinthians 13:4-8 Love is patient\, love is kind. It does not envy\, it does not boast\, it is not proud.  It is not rude\, it is not self-seeking\, it is not easily angered\, it keeps no record of wrongs.  Love does not delight in evil but rejoices with the truth.  It always protects\, always trusts\, always hopes\, always perseveres.  Love never fails. But where there are prophecies\, they will cease; where there are tongues\, they will be stilled; where there is knowledge\, it will pass away. \nJohn 3:16 “For God so loved the world that he gave his one and only Son\, that whoever believes in him shall not perish but have eternal life. \n1 John 3:16-18 This is how we know what love is: Jesus Christ laid down his life for us. And we ought to lay down our lives for our brothers. If anyone has material possessions and sees his brother in need but has no pity on him\, how can the love of God be in him? Dear children\, let us not love with words or tongue but with actions and in truth.
URL:https://csitamilchurchqatar.com/event/senate-group-candidates/
CATEGORIES:Voting
ATTACH;FMTTYPE=image/jpeg:https://csitamilchurchqatar.com/wp-content/uploads/2016/12/churchwp_media_-31-1.jpg
END:VEVENT
BEGIN:VEVENT
DTSTART;TZID=UTC:20200930T080000
DTEND;TZID=UTC:20200930T170000
DTSTAMP:20260420T054116
CREATED:20161108T231935Z
LAST-MODIFIED:20161108T231935Z
UID:5716-1601452800-1601485200@csitamilchurchqatar.com
SUMMARY:Poor Kids Fundraising
DESCRIPTION:There are countless threats to the unity of the body (Luca 3:6–9). Paul knows that brothers and sisters may have “complaints” against each other (Colossians 3:13). What does it look like to foster a community of forgiveness and love? \n \nPray for Faith\nThe Christian enduring persecution from his biological family needs to hear the dozens or hundreds in his spiritual family sing\, “Jesus\, I my cross have taken\, all to leave and follow Thee.” The believer struggling hard against shame needs to watch you exult\, “My sin\, not in part\, but the whole\, has been nailed to the cross\, and I bear it no more!” The saint overburdened by work\, striving\, and performance needs to listen as you affirm\, “We rest on Thee\, our shield.” \nGet Love to Love the Others\n1 Corinthians 13:4-8 Love is patient\, love is kind. It does not envy\, it does not boast\, it is not proud.  It is not rude\, it is not self-seeking\, it is not easily angered\, it keeps no record of wrongs.  Love does not delight in evil but rejoices with the truth.  It always protects\, always trusts\, always hopes\, always perseveres.  Love never fails. But where there are prophecies\, they will cease; where there are tongues\, they will be stilled; where there is knowledge\, it will pass away. \nJohn 3:16 “For God so loved the world that he gave his one and only Son\, that whoever believes in him shall not perish but have eternal life. \n1 John 3:16-18 This is how we know what love is: Jesus Christ laid down his life for us. And we ought to lay down our lives for our brothers. If anyone has material possessions and sees his brother in need but has no pity on him\, how can the love of God be in him? Dear children\, let us not love with words or tongue but with actions and in truth.
URL:https://csitamilchurchqatar.com/event/election-day/
CATEGORIES:Voting
ATTACH;FMTTYPE=image/jpeg:https://csitamilchurchqatar.com/wp-content/uploads/2016/02/churchwp_media_-43-1.jpg
END:VEVENT
BEGIN:VEVENT
DTSTART;TZID=UTC:20200815T080000
DTEND;TZID=UTC:20200817T170000
DTSTAMP:20260420T054116
CREATED:20161108T232457Z
LAST-MODIFIED:20161108T232457Z
UID:5720-1597478400-1597683600@csitamilchurchqatar.com
SUMMARY:Celebrating Family Together
DESCRIPTION:There are countless threats to the unity of the body (Colossians 3:6–9). Paul knows that brothers and sisters may have “complaints” against each other (Colossians 3:13). What does it look like to foster a community of forgiveness and love? \n \nPray for Faith\nThe Christian enduring persecution from his biological family needs to hear the dozens or hundreds in his spiritual family sing\, “Jesus\, I my cross have taken\, all to leave and follow Thee.” The believer struggling hard against shame needs to watch you exult\, “My sin\, not in part\, but the whole\, has been nailed to the cross\, and I bear it no more!” The saint overburdened by work\, striving\, and performance needs to listen as you affirm\, “We rest on Thee\, our shield.” \nGet Love to Love the Others\n1 Corinthians 13:4-8 Love is patient\, love is kind. It does not envy\, it does not boast\, it is not proud.  It is not rude\, it is not self-seeking\, it is not easily angered\, it keeps no record of wrongs.  Love does not delight in evil but rejoices with the truth.  It always protects\, always trusts\, always hopes\, always perseveres.  Love never fails. But where there are prophecies\, they will cease; where there are tongues\, they will be stilled; where there is knowledge\, it will pass away. \nJohn 3:16 “For God so loved the world that he gave his one and only Son\, that whoever believes in him shall not perish but have eternal life. \n1 John 3:16-18 This is how we know what love is: Jesus Christ laid down his life for us. And we ought to lay down our lives for our brothers. If anyone has material possessions and sees his brother in need but has no pity on him\, how can the love of God be in him? Dear children\, let us not love with words or tongue but with actions and in truth.
URL:https://csitamilchurchqatar.com/event/first-day-as-senator/
CATEGORIES:Voting
ATTACH;FMTTYPE=image/jpeg:https://csitamilchurchqatar.com/wp-content/uploads/2016/01/churchwp_media_-45_1-1.jpg
END:VEVENT
END:VCALENDAR